BEGIN:VCALENDAR
VERSION:2.0
PRODID:-//Politeknik Banjarnegara - ECPv6.7.1//NONSGML v1.0//EN
CALSCALE:GREGORIAN
METHOD:PUBLISH
X-ORIGINAL-URL:https://www.polibara.ac.id
X-WR-CALDESC:Events for Politeknik Banjarnegara
REFRESH-INTERVAL;VALUE=DURATION:PT1H
X-Robots-Tag:noindex
X-PUBLISHED-TTL:PT1H
BEGIN:VTIMEZONE
TZID:UTC
BEGIN:STANDARD
TZOFFSETFROM:+0000
TZOFFSETTO:+0000
TZNAME:UTC
DTSTART:20240101T000000
END:STANDARD
END:VTIMEZONE
BEGIN:VEVENT
DTSTART;TZID=UTC:20240608T080000
DTEND;TZID=UTC:20240813T170000
DTSTAMP:20260421T051915
CREATED:20240608T152405Z
LAST-MODIFIED:20240609T000414Z
UID:1335-1717833600-1723568400@www.polibara.ac.id
SUMMARY:Pendaftaran Mahasiswa Baru
DESCRIPTION:Keterangan Penerimaan Mahasiswa Baru Politeknik\nTahun Akademik 2024/2025 \nPoliteknik Banjarnegara \nMenyambut Calon Mahasiswa Berprestasi dan Berbakat! \nPoliteknik Banjarnegara membuka penerimaan mahasiswa baru untuk Tahun Akademik 2024/2025. Kami menawarkan berbagai program studi berkualitas yang dirancang untuk mempersiapkan lulusan menjadi profesional yang kompeten dan siap kerja.
URL:https://www.polibara.ac.id/agenda/pendaftaran-mahasiswa-baru/
LOCATION:Aula Kampus Politeknik\, Jl. Raya Madukara KM. 02 Kel. Kenteng\, Kec. Madukara\, Banjarnegara\, Jawa Tengah\, 53412\, Indonesia
CATEGORIES:Pendaftaran
ATTACH;FMTTYPE=image/jpeg:https://www.polibara.ac.id/wp-content/uploads/2024/06/2017-07-26.jpg
END:VEVENT
END:VCALENDAR